BEGIN:VCALENDAR
VERSION:2.0
PRODID:-//Aero-formatech Formation personnel navigant - ECPv6.15.18//NONSGML v1.0//EN
CALSCALE:GREGORIAN
METHOD:PUBLISH
X-WR-CALNAME:Aero-formatech Formation personnel navigant
X-ORIGINAL-URL:https://aero-formatech.com
X-WR-CALDESC:Évènements pour Aero-formatech Formation personnel navigant
REFRESH-INTERVAL;VALUE=DURATION:PT1H
X-Robots-Tag:noindex
X-PUBLISHED-TTL:PT1H
BEGIN:VTIMEZONE
TZID:America/New_York
BEGIN:DAYLIGHT
TZOFFSETFROM:-0500
TZOFFSETTO:-0400
TZNAME:EDT
DTSTART:20240310T070000
END:DAYLIGHT
BEGIN:STANDARD
TZOFFSETFROM:-0400
TZOFFSETTO:-0500
TZNAME:EST
DTSTART:20241103T060000
END:STANDARD
BEGIN:DAYLIGHT
TZOFFSETFROM:-0500
TZOFFSETTO:-0400
TZNAME:EDT
DTSTART:20250309T070000
END:DAYLIGHT
BEGIN:STANDARD
TZOFFSETFROM:-0400
TZOFFSETTO:-0500
TZNAME:EST
DTSTART:20251102T060000
END:STANDARD
BEGIN:DAYLIGHT
TZOFFSETFROM:-0500
TZOFFSETTO:-0400
TZNAME:EDT
DTSTART:20260308T070000
END:DAYLIGHT
BEGIN:STANDARD
TZOFFSETFROM:-0400
TZOFFSETTO:-0500
TZNAME:EST
DTSTART:20261101T060000
END:STANDARD
END:VTIMEZONE
BEGIN:VEVENT
DTSTART;TZID=America/New_York:20251217T100000
DTEND;TZID=America/New_York:20251217T150000
DTSTAMP:20260421T080608
CREATED:20241127T220109Z
LAST-MODIFIED:20250611T181257Z
UID:10000137-1765965600-1765983600@aero-formatech.com
SUMMARY:Calgary\, AB\, Canada – Personnel navigant / Combat de feu et Évacuation maritime
DESCRIPTION:Cliquez ici pour plus d’information concernant la formation Combat de feu et évacuation maritime \nPour s’enregistrer\, contactez-nous à : info@aeroformatech.com
URL:https://aero-formatech.com/event/calgary-ab-canada-personnel-navigant-combat-de-feu-et-evacuation-maritime-21/
LOCATION:CF Skyservice FBO\, 575 Palmer Rd NE\, Calgary\, AB\, T2E7G4\, Canada
END:VEVENT
BEGIN:VEVENT
DTSTART;TZID=America/New_York:20251204T100000
DTEND;TZID=America/New_York:20251204T150000
DTSTAMP:20260421T080608
CREATED:20241127T220045Z
LAST-MODIFIED:20250611T181441Z
UID:10000136-1764842400-1764860400@aero-formatech.com
SUMMARY:Calgary\, AB\, Canada – Personnel navigant / Combat de feu et Évacuation maritime
DESCRIPTION:Cliquez ici pour plus d’information concernant la formation Combat de feu et évacuation maritime \nPour s’enregistrer\, contactez-nous à : info@aeroformatech.com
URL:https://aero-formatech.com/event/calgary-ab-canada-personnel-navigant-combat-de-feu-et-evacuation-maritime-20/
LOCATION:CF Skyservice FBO\, 575 Palmer Rd NE\, Calgary\, AB\, T2E7G4\, Canada
END:VEVENT
BEGIN:VEVENT
DTSTART;TZID=America/New_York:20251119T100000
DTEND;TZID=America/New_York:20251119T150000
DTSTAMP:20260421T080608
CREATED:20241127T220019Z
LAST-MODIFIED:20250611T181530Z
UID:10000135-1763546400-1763564400@aero-formatech.com
SUMMARY:Calgary\, AB\, Canada – Personnel navigant / Combat de feu et Évacuation maritime
DESCRIPTION:Cliquez ici pour plus d’information concernant la formation Combat de feu et évacuation maritime \nPour s’enregistrer\, contactez-nous à : info@aeroformatech.com
URL:https://aero-formatech.com/event/calgary-ab-canada-personnel-navigant-combat-de-feu-et-evacuation-maritime-19/
LOCATION:CF Skyservice FBO\, 575 Palmer Rd NE\, Calgary\, AB\, T2E7G4\, Canada
END:VEVENT
BEGIN:VEVENT
DTSTART;TZID=America/New_York:20251023T100000
DTEND;TZID=America/New_York:20251023T150000
DTSTAMP:20260421T080608
CREATED:20241127T215948Z
LAST-MODIFIED:20251001T172445Z
UID:10000134-1761213600-1761231600@aero-formatech.com
SUMMARY:Calgary\, AB\, Canada – Personnel navigant / Combat de feu et Évacuation maritime
DESCRIPTION:Cliquez ici pour plus d’information concernant la formation Combat de feu et évacuation maritime \nPour s’enregistrer\, contactez-nous à : info@aeroformatech.com
URL:https://aero-formatech.com/event/calgary-ab-canada-personnel-navigant-combat-de-feu-et-evacuation-maritime-18/
LOCATION:CF Skyservice FBO\, 575 Palmer Rd NE\, Calgary\, AB\, T2E7G4\, Canada
END:VEVENT
BEGIN:VEVENT
DTSTART;TZID=America/New_York:20251009T100000
DTEND;TZID=America/New_York:20251009T150000
DTSTAMP:20260421T080608
CREATED:20241127T215923Z
LAST-MODIFIED:20250721T224504Z
UID:10000133-1760004000-1760022000@aero-formatech.com
SUMMARY:Calgary\, AB\, Canada – Personnel navigant / Combat de feu et Évacuation maritime
DESCRIPTION:Cliquez ici pour plus d’information concernant la formation Combat de feu et évacuation maritime \nPour s’enregistrer\, contactez-nous à : info@aeroformatech.com
URL:https://aero-formatech.com/event/calgary-ab-canada-personnel-navigant-combat-de-feu-et-evacuation-maritime-17/
LOCATION:CF Skyservice FBO\, 575 Palmer Rd NE\, Calgary\, AB\, T2E7G4\, Canada
END:VEVENT
BEGIN:VEVENT
DTSTART;TZID=America/New_York:20250925T100000
DTEND;TZID=America/New_York:20250925T150000
DTSTAMP:20260421T080608
CREATED:20241127T215814Z
LAST-MODIFIED:20241202T164532Z
UID:10000132-1758794400-1758812400@aero-formatech.com
SUMMARY:Calgary\, AB\, Canada – Personnel navigant / Combat de feu et Évacuation maritime
DESCRIPTION:Cliquez ici pour plus d’information concernant la formation Combat de feu et évacuation maritime \nPour s’enregistrer\, contactez-nous à : info@aeroformatech.com
URL:https://aero-formatech.com/event/calgary-ab-canada-personnel-navigant-combat-de-feu-et-evacuation-maritime-16/
LOCATION:CF Skyservice FBO\, 575 Palmer Rd NE\, Calgary\, AB\, T2E7G4\, Canada
END:VEVENT
BEGIN:VEVENT
DTSTART;TZID=America/New_York:20250910T100000
DTEND;TZID=America/New_York:20250910T150000
DTSTAMP:20260421T080608
CREATED:20241127T215748Z
LAST-MODIFIED:20241202T164532Z
UID:10000131-1757498400-1757516400@aero-formatech.com
SUMMARY:Calgary\, AB\, Canada – Personnel navigant / Combat de feu et Évacuation maritime
DESCRIPTION:Cliquez ici pour plus d’information concernant la formation Combat de feu et évacuation maritime \nPour s’enregistrer\, contactez-nous à : info@aeroformatech.com
URL:https://aero-formatech.com/event/calgary-ab-canada-personnel-navigant-combat-de-feu-et-evacuation-maritime-15/
LOCATION:CF Skyservice FBO\, 575 Palmer Rd NE\, Calgary\, AB\, T2E7G4\, Canada
END:VEVENT
BEGIN:VEVENT
DTSTART;TZID=America/New_York:20250821T100000
DTEND;TZID=America/New_York:20250821T150000
DTSTAMP:20260421T080608
CREATED:20241127T215722Z
LAST-MODIFIED:20250721T224240Z
UID:10000130-1755770400-1755788400@aero-formatech.com
SUMMARY:Calgary\, AB\, Canada – Personnel navigant / Combat de feu et Évacuation maritime
DESCRIPTION:Cliquez ici pour plus d’information concernant la formation Combat de feu et évacuation maritime \nPour s’enregistrer\, contactez-nous à : info@aeroformatech.com
URL:https://aero-formatech.com/event/calgary-ab-canada-personnel-navigant-combat-de-feu-et-evacuation-maritime-14/
LOCATION:CF Skyservice FBO\, 575 Palmer Rd NE\, Calgary\, AB\, T2E7G4\, Canada
END:VEVENT
BEGIN:VEVENT
DTSTART;TZID=America/New_York:20250807T100000
DTEND;TZID=America/New_York:20250807T150000
DTSTAMP:20260421T080608
CREATED:20241127T215653Z
LAST-MODIFIED:20241202T164533Z
UID:10000129-1754560800-1754578800@aero-formatech.com
SUMMARY:Calgary\, AB\, Canada – Personnel navigant / Combat de feu et Évacuation maritime
DESCRIPTION:Cliquez ici pour plus d’information concernant la formation Combat de feu et évacuation maritime \nPour s’enregistrer\, contactez-nous à : info@aeroformatech.com
URL:https://aero-formatech.com/event/calgary-ab-canada-personnel-navigant-combat-de-feu-et-evacuation-maritime-13/
LOCATION:CF Skyservice FBO\, 575 Palmer Rd NE\, Calgary\, AB\, T2E7G4\, Canada
END:VEVENT
BEGIN:VEVENT
DTSTART;TZID=America/New_York:20250619T100000
DTEND;TZID=America/New_York:20250619T150000
DTSTAMP:20260421T080608
CREATED:20241127T215626Z
LAST-MODIFIED:20241202T164534Z
UID:10000128-1750327200-1750345200@aero-formatech.com
SUMMARY:Calgary\, AB\, Canada – Personnel navigant / Combat de feu et Évacuation maritime
DESCRIPTION:Cliquez ici pour plus d’information concernant la formation Combat de feu et évacuation maritime \nPour s’enregistrer\, contactez-nous à : info@aeroformatech.com
URL:https://aero-formatech.com/event/calgary-ab-canada-personnel-navigant-combat-de-feu-et-evacuation-maritime-12/
LOCATION:CF Skyservice FBO\, 575 Palmer Rd NE\, Calgary\, AB\, T2E7G4\, Canada
END:VEVENT
BEGIN:VEVENT
DTSTART;TZID=America/New_York:20250606T100000
DTEND;TZID=America/New_York:20250606T150000
DTSTAMP:20260421T080608
CREATED:20241127T215601Z
LAST-MODIFIED:20241202T164534Z
UID:10000127-1749204000-1749222000@aero-formatech.com
SUMMARY:Calgary\, AB\, Canada – Personnel navigant / Combat de feu et Évacuation maritime
DESCRIPTION:Cliquez ici pour plus d’information concernant la formation Combat de feu et évacuation maritime \nPour s’enregistrer\, contactez-nous à : info@aeroformatech.com
URL:https://aero-formatech.com/event/calgary-ab-canada-personnel-navigant-combat-de-feu-et-evacuation-maritime-11/
LOCATION:CF Skyservice FBO\, 575 Palmer Rd NE\, Calgary\, AB\, T2E7G4\, Canada
END:VEVENT
BEGIN:VEVENT
DTSTART;TZID=America/New_York:20250515T123000
DTEND;TZID=America/New_York:20250515T170000
DTSTAMP:20260421T080608
CREATED:20241127T215528Z
LAST-MODIFIED:20250726T194024Z
UID:10000126-1747312200-1747328400@aero-formatech.com
SUMMARY:Calgary\, AB\, Canada – Personnel navigant / Combat de feu et Évacuation maritime
DESCRIPTION:Cliquez ici pour plus d’information concernant la formation Combat de feu et évacuation maritime \nPour s’enregistrer\, contactez-nous à : info@aeroformatech.com
URL:https://aero-formatech.com/event/calgary-ab-canada-personnel-navigant-combat-de-feu-et-evacuation-maritime-10/
LOCATION:CF Skyservice FBO\, 575 Palmer Rd NE\, Calgary\, AB\, T2E7G4\, Canada
END:VEVENT
BEGIN:VEVENT
DTSTART;TZID=America/New_York:20250424T100000
DTEND;TZID=America/New_York:20250424T150000
DTSTAMP:20260421T080608
CREATED:20241127T215459Z
LAST-MODIFIED:20241210T204327Z
UID:10000125-1745488800-1745506800@aero-formatech.com
SUMMARY:Calgary\, AB\, Canada – Personnel navigant / Combat de feu et Évacuation maritime
DESCRIPTION:Cliquez ici pour plus d’information concernant la formation Combat de feu et évacuation maritime \nPour s’enregistrer\, contactez-nous à : info@aeroformatech.com
URL:https://aero-formatech.com/event/calgary-ab-canada-personnel-navigant-combat-de-feu-et-evacuation-maritime-9/
LOCATION:CF Skyservice FBO\, 575 Palmer Rd NE\, Calgary\, AB\, T2E7G4\, Canada
END:VEVENT
BEGIN:VEVENT
DTSTART;TZID=America/New_York:20250403T100000
DTEND;TZID=America/New_York:20250403T150000
DTSTAMP:20260421T080608
CREATED:20241127T215415Z
LAST-MODIFIED:20241202T164535Z
UID:10000124-1743674400-1743692400@aero-formatech.com
SUMMARY:Calgary\, AB\, Canada – Personnel navigant / Combat de feu et Évacuation maritime
DESCRIPTION:Cliquez ici pour plus d’information concernant la formation Combat de feu et évacuation maritime \nPour s’enregistrer\, contactez-nous à : info@aeroformatech.com
URL:https://aero-formatech.com/event/calgary-ab-canada-personnel-navigant-combat-de-feu-et-evacuation-maritime-8/
LOCATION:CF Skyservice FBO\, 575 Palmer Rd NE\, Calgary\, AB\, T2E7G4\, Canada
END:VEVENT
BEGIN:VEVENT
DTSTART;TZID=America/New_York:20250320T100000
DTEND;TZID=America/New_York:20250320T150000
DTSTAMP:20260421T080608
CREATED:20241127T215347Z
LAST-MODIFIED:20241202T164535Z
UID:10000123-1742464800-1742482800@aero-formatech.com
SUMMARY:Calgary\, AB\, Canada – Personnel navigant / Combat de feu et Évacuation maritime
DESCRIPTION:Cliquez ici pour plus d’information concernant la formation Combat de feu et évacuation maritime \nPour s’enregistrer\, contactez-nous à : info@aeroformatech.com
URL:https://aero-formatech.com/event/calgary-ab-canada-personnel-navigant-combat-de-feu-et-evacuation-maritime-7/
LOCATION:CF Skyservice FBO\, 575 Palmer Rd NE\, Calgary\, AB\, T2E7G4\, Canada
END:VEVENT
BEGIN:VEVENT
DTSTART;TZID=America/New_York:20250307T100000
DTEND;TZID=America/New_York:20250307T150000
DTSTAMP:20260421T080608
CREATED:20241127T215316Z
LAST-MODIFIED:20250227T135649Z
UID:10000122-1741341600-1741359600@aero-formatech.com
SUMMARY:ANNULÉ / Calgary\, AB\, Canada – Personnel navigant / Combat de feu et Évacuation maritime
DESCRIPTION:Cliquez ici pour plus d’information concernant la formation Combat de feu et évacuation maritime \nPour s’enregistrer\, contactez-nous à : info@aeroformatech.com
URL:https://aero-formatech.com/event/calgary-ab-canada-personnel-navigant-combat-de-feu-et-evacuation-maritime-6/
LOCATION:CF Skyservice FBO\, 575 Palmer Rd NE\, Calgary\, AB\, T2E7G4\, Canada
END:VEVENT
BEGIN:VEVENT
DTSTART;TZID=America/New_York:20250206T100000
DTEND;TZID=America/New_York:20250206T150000
DTSTAMP:20260421T080608
CREATED:20241127T215248Z
LAST-MODIFIED:20241202T164536Z
UID:10000121-1738836000-1738854000@aero-formatech.com
SUMMARY:Calgary\, AB\, Canada – Personnel navigant / Combat de feu et Évacuation maritime
DESCRIPTION:Cliquez ici pour plus d’information concernant la formation Combat de feu et évacuation maritime \nPour s’enregistrer\, contactez-nous à : info@aeroformatech.com
URL:https://aero-formatech.com/event/calgary-ab-canada-personnel-navigant-combat-de-feu-et-evacuation-maritime-5/
LOCATION:CF Skyservice FBO\, 575 Palmer Rd NE\, Calgary\, AB\, T2E7G4\, Canada
END:VEVENT
BEGIN:VEVENT
DTSTART;TZID=America/New_York:20250110T100000
DTEND;TZID=America/New_York:20250110T150000
DTSTAMP:20260421T080608
CREATED:20241127T215205Z
LAST-MODIFIED:20241202T164537Z
UID:10000120-1736503200-1736521200@aero-formatech.com
SUMMARY:Calgary\, AB\, Canada – Personnel navigant / Combat de feu et Évacuation maritime
DESCRIPTION:Cliquez ici pour plus d’information concernant la formation Combat de feu et évacuation maritime \nPour s’enregistrer\, contactez-nous à : info@aeroformatech.com
URL:https://aero-formatech.com/event/calgary-ab-canada-personnel-navigant-combat-de-feu-et-evacuation-maritime-4/
LOCATION:CF Skyservice FBO\, 575 Palmer Rd NE\, Calgary\, AB\, T2E7G4\, Canada
END:VEVENT
END:VCALENDAR