BEGIN:VCALENDAR
VERSION:2.0
PRODID:-//Aero-formatech Formation personnel navigant - ECPv6.15.18//NONSGML v1.0//EN
CALSCALE:GREGORIAN
METHOD:PUBLISH
X-ORIGINAL-URL:https://aero-formatech.com
X-WR-CALDESC:Évènements pour Aero-formatech Formation personnel navigant
REFRESH-INTERVAL;VALUE=DURATION:PT1H
X-Robots-Tag:noindex
X-PUBLISHED-TTL:PT1H
BEGIN:VTIMEZONE
TZID:America/New_York
BEGIN:DAYLIGHT
TZOFFSETFROM:-0500
TZOFFSETTO:-0400
TZNAME:EDT
DTSTART:20230312T070000
END:DAYLIGHT
BEGIN:STANDARD
TZOFFSETFROM:-0400
TZOFFSETTO:-0500
TZNAME:EST
DTSTART:20231105T060000
END:STANDARD
BEGIN:DAYLIGHT
TZOFFSETFROM:-0500
TZOFFSETTO:-0400
TZNAME:EDT
DTSTART:20240310T070000
END:DAYLIGHT
BEGIN:STANDARD
TZOFFSETFROM:-0400
TZOFFSETTO:-0500
TZNAME:EST
DTSTART:20241103T060000
END:STANDARD
BEGIN:DAYLIGHT
TZOFFSETFROM:-0500
TZOFFSETTO:-0400
TZNAME:EDT
DTSTART:20250309T070000
END:DAYLIGHT
BEGIN:STANDARD
TZOFFSETFROM:-0400
TZOFFSETTO:-0500
TZNAME:EST
DTSTART:20251102T060000
END:STANDARD
BEGIN:DAYLIGHT
TZOFFSETFROM:-0500
TZOFFSETTO:-0400
TZNAME:EDT
DTSTART:20260308T070000
END:DAYLIGHT
BEGIN:STANDARD
TZOFFSETFROM:-0400
TZOFFSETTO:-0500
TZNAME:EST
DTSTART:20261101T060000
END:STANDARD
END:VTIMEZONE
BEGIN:VTIMEZONE
TZID:Europe/Paris
BEGIN:DAYLIGHT
TZOFFSETFROM:+0100
TZOFFSETTO:+0200
TZNAME:CEST
DTSTART:20230326T010000
END:DAYLIGHT
BEGIN:STANDARD
TZOFFSETFROM:+0200
TZOFFSETTO:+0100
TZNAME:CET
DTSTART:20231029T010000
END:STANDARD
BEGIN:DAYLIGHT
TZOFFSETFROM:+0100
TZOFFSETTO:+0200
TZNAME:CEST
DTSTART:20240331T010000
END:DAYLIGHT
BEGIN:STANDARD
TZOFFSETFROM:+0200
TZOFFSETTO:+0100
TZNAME:CET
DTSTART:20241027T010000
END:STANDARD
BEGIN:DAYLIGHT
TZOFFSETFROM:+0100
TZOFFSETTO:+0200
TZNAME:CEST
DTSTART:20250330T010000
END:DAYLIGHT
BEGIN:STANDARD
TZOFFSETFROM:+0200
TZOFFSETTO:+0100
TZNAME:CET
DTSTART:20251026T010000
END:STANDARD
END:VTIMEZONE
BEGIN:VEVENT
DTSTART;TZID=America/New_York:20250907T090000
DTEND;TZID=America/New_York:20250907T110000
DTSTAMP:20260421T064116
CREATED:20241127T224040Z
LAST-MODIFIED:20241202T164533Z
UID:10000166-1757235600-1757242800@aero-formatech.com
SUMMARY:ÉVACUATION SUBAQUATIQUE - Formation d’urgence / Région de Montréal - DURÉE : 2 heures / session
DESCRIPTION:Pour s’enregistrer ou pour plus de détails\, contactez-nous à info@aeroformatech.com
URL:https://aero-formatech.com/event/evacuation-subaquatique-formation-durgence-region-de-montreal-8-decembre-2024-duree-2-heures-session-10/
LOCATION:Piscine du Grand Times Hôtel\, 88 Rue Jean-Guyon\, Blainville\, QC\, J7C3W1\, Canada
END:VEVENT
BEGIN:VEVENT
DTSTART;TZID=America/New_York:20250803T090000
DTEND;TZID=America/New_York:20250803T110000
DTSTAMP:20260421T064116
CREATED:20241127T224016Z
LAST-MODIFIED:20241202T164533Z
UID:10000165-1754211600-1754218800@aero-formatech.com
SUMMARY:ÉVACUATION SUBAQUATIQUE - Formation d’urgence / Région de Montréal - DURÉE : 2 heures / session
DESCRIPTION:Pour s’enregistrer ou pour plus de détails\, contactez-nous à info@aeroformatech.com
URL:https://aero-formatech.com/event/evacuation-subaquatique-formation-durgence-region-de-montreal-8-decembre-2024-duree-2-heures-session-9/
LOCATION:Piscine du Grand Times Hôtel\, 88 Rue Jean-Guyon\, Blainville\, QC\, J7C3W1\, Canada
END:VEVENT
BEGIN:VEVENT
DTSTART;TZID=America/New_York:20250615T090000
DTEND;TZID=America/New_York:20250615T110000
DTSTAMP:20260421T064116
CREATED:20241127T223943Z
LAST-MODIFIED:20241202T164534Z
UID:10000164-1749978000-1749985200@aero-formatech.com
SUMMARY:ÉVACUATION SUBAQUATIQUE - Formation d’urgence / Région de Montréal - DURÉE : 2 heures / session
DESCRIPTION:Pour s’enregistrer ou pour plus de détails\, contactez-nous à info@aeroformatech.com
URL:https://aero-formatech.com/event/evacuation-subaquatique-formation-durgence-region-de-montreal-8-decembre-2024-duree-2-heures-session-8/
LOCATION:Piscine du Grand Times Hôtel\, 88 Rue Jean-Guyon\, Blainville\, QC\, J7C3W1\, Canada
END:VEVENT
BEGIN:VEVENT
DTSTART;TZID=America/New_York:20250528T083000
DTEND;TZID=America/New_York:20250528T103000
DTSTAMP:20260421T064116
CREATED:20250726T192043Z
LAST-MODIFIED:20250726T192249Z
UID:10000192-1748421000-1748428200@aero-formatech.com
SUMMARY:ÉVACUATION SUBAQUATIQUE - Formation d’urgence / Région de Montréal - DURÉE : 2 heures / session
DESCRIPTION:Pour s’enregistrer ou pour plus de détails\, contactez-nous à info@aeroformatech.com
URL:https://aero-formatech.com/event/evacuation-subaquatique-formation-durgence-region-de-montreal-duree-2-heures-session/
LOCATION:Piscine du Grand Times Hôtel\, 88 Rue Jean-Guyon\, Blainville\, QC\, J7C3W1\, Canada
END:VEVENT
BEGIN:VEVENT
DTSTART;TZID=America/New_York:20250511T090000
DTEND;TZID=America/New_York:20250511T110000
DTSTAMP:20260421T064116
CREATED:20241127T223914Z
LAST-MODIFIED:20241202T164534Z
UID:10000163-1746954000-1746961200@aero-formatech.com
SUMMARY:ÉVACUATION SUBAQUATIQUE - Formation d’urgence / Région de Montréal - DURÉE : 2 heures / session
DESCRIPTION:Pour s’enregistrer ou pour plus de détails\, contactez-nous à info@aeroformatech.com
URL:https://aero-formatech.com/event/evacuation-subaquatique-formation-durgence-region-de-montreal-8-decembre-2024-duree-2-heures-session-7/
LOCATION:Piscine du Grand Times Hôtel\, 88 Rue Jean-Guyon\, Blainville\, QC\, J7C3W1\, Canada
END:VEVENT
BEGIN:VEVENT
DTSTART;TZID=America/New_York:20250406T090000
DTEND;TZID=America/New_York:20250406T110000
DTSTAMP:20260421T064116
CREATED:20241127T223839Z
LAST-MODIFIED:20241202T164535Z
UID:10000162-1743930000-1743937200@aero-formatech.com
SUMMARY:ÉVACUATION SUBAQUATIQUE - Formation d’urgence / Région de Montréal - DURÉE : 2 heures / session
DESCRIPTION:Pour s’enregistrer ou pour plus de détails\, contactez-nous à info@aeroformatech.com
URL:https://aero-formatech.com/event/evacuation-subaquatique-formation-durgence-region-de-montreal-8-decembre-2024-duree-2-heures-session-6/
LOCATION:Piscine du Grand Times Hôtel\, 88 Rue Jean-Guyon\, Blainville\, QC\, J7C3W1\, Canada
END:VEVENT
BEGIN:VEVENT
DTSTART;TZID=America/New_York:20250310T090000
DTEND;TZID=America/New_York:20250310T173000
DTSTAMP:20260421T064116
CREATED:20241127T222045Z
LAST-MODIFIED:20241202T164536Z
UID:10000161-1741597200-1741627800@aero-formatech.com
SUMMARY:ÉVACUATION SUBAQUATIQUE - Formation d’urgence / Région de Montréal - DURÉE : 2 heures / session
DESCRIPTION:Pour s’enregistrer ou pour plus de détails\, contactez-nous à info@aeroformatech.com
URL:https://aero-formatech.com/event/evacuation-subaquatique-formation-durgence-region-de-montreal-8-decembre-2024-duree-2-heures-session-5/
LOCATION:Piscine du Grand Times Hôtel\, 88 Rue Jean-Guyon\, Blainville\, QC\, J7C3W1\, Canada
END:VEVENT
BEGIN:VEVENT
DTSTART;TZID=America/New_York:20250309T090000
DTEND;TZID=America/New_York:20250309T110000
DTSTAMP:20260421T064116
CREATED:20241127T221653Z
LAST-MODIFIED:20241202T164536Z
UID:10000160-1741510800-1741518000@aero-formatech.com
SUMMARY:ÉVACUATION SUBAQUATIQUE - Formation d’urgence / Région de Montréal - DURÉE : 2 heures / session
DESCRIPTION:Pour s’enregistrer ou pour plus de détails\, contactez-nous à info@aeroformatech.com
URL:https://aero-formatech.com/event/evacuation-subaquatique-formation-durgence-region-de-montreal-8-decembre-2024-duree-2-heures-session-4/
LOCATION:Piscine du Grand Times Hôtel\, 88 Rue Jean-Guyon\, Blainville\, QC\, J7C3W1\, Canada
END:VEVENT
BEGIN:VEVENT
DTSTART;TZID=America/New_York:20250202T090000
DTEND;TZID=America/New_York:20250202T110000
DTSTAMP:20260421T064116
CREATED:20241127T221602Z
LAST-MODIFIED:20241202T164537Z
UID:10000159-1738486800-1738494000@aero-formatech.com
SUMMARY:ÉVACUATION SUBAQUATIQUE - Formation d’urgence / Région de Montréal -  DURÉE : 2 heures / session
DESCRIPTION:Pour s’enregistrer ou pour plus de détails\, contactez-nous à info@aeroformatech.com
URL:https://aero-formatech.com/event/evacuation-subaquatique-formation-durgence-region-de-montreal-8-decembre-2024-duree-2-heures-session-3/
LOCATION:Piscine du Grand Times Hôtel\, 88 Rue Jean-Guyon\, Blainville\, QC\, J7C3W1\, Canada
END:VEVENT
BEGIN:VEVENT
DTSTART;TZID=America/New_York:20250112T090000
DTEND;TZID=America/New_York:20250112T110000
DTSTAMP:20260421T064116
CREATED:20241127T221528Z
LAST-MODIFIED:20250107T173000Z
UID:10000158-1736672400-1736679600@aero-formatech.com
SUMMARY:ÉVACUATION SUBAQUATIQUE - Formation d’urgence / Région de Montréal - DURÉE : 2 heures / session
DESCRIPTION:Pour s’enregistrer ou pour plus de détails\, contactez-nous à info@aeroformatech.com
URL:https://aero-formatech.com/event/evacuation-subaquatique-formation-durgence-region-de-montreal-8-decembre-2024-duree-2-heures-session-2/
LOCATION:Piscine du Grand Times Hôtel\, 88 Rue Jean-Guyon\, Blainville\, QC\, J7C3W1\, Canada
END:VEVENT
BEGIN:VEVENT
DTSTART;TZID=America/New_York:20241208T090000
DTEND;TZID=America/New_York:20241208T110000
DTSTAMP:20260421T064116
CREATED:20241024T220759Z
LAST-MODIFIED:20241202T164537Z
UID:10000026-1733648400-1733655600@aero-formatech.com
SUMMARY:ÉVACUATION SUBAQUATIQUE - Formation d’urgence / Région de Montréal - DURÉE : 2 heures / session
DESCRIPTION:Pour s’enregistrer ou pour plus de détails\, contactez-nous à info@aeroformatech.com
URL:https://aero-formatech.com/event/evacuation-subaquatique-formation-durgence-region-de-montreal-8-decembre-2024-duree-2-heures-session/
LOCATION:Piscine du Grand Times Hôtel\, 88 Rue Jean-Guyon\, Blainville\, QC\, J7C3W1\, Canada
END:VEVENT
BEGIN:VEVENT
DTSTART;TZID=America/New_York:20241117T090000
DTEND;TZID=America/New_York:20241117T110000
DTSTAMP:20260421T064116
CREATED:20241024T221307Z
LAST-MODIFIED:20241202T164538Z
UID:10000031-1731834000-1731841200@aero-formatech.com
SUMMARY:ÉVACUATION SUBAQUATIQUE - Formation d’urgence / Région de Montréal - 17 novembre 2024 / DURÉE : 2 heures / session
DESCRIPTION:Pour s’enregistrer ou pour plus de détails\, contactez-nous à info@aeroformatech.com
URL:https://aero-formatech.com/event/evacuation-subaquatique-formation-durgence-region-de-montreal-17-novembre-2024-duree-2-heures-session/
LOCATION:Piscine du Grand Times Hôtel\, 88 Rue Jean-Guyon\, Blainville\, QC\, J7C3W1\, Canada
END:VEVENT
BEGIN:VEVENT
DTSTART;TZID=Europe/Paris:20241027T090000
DTEND;TZID=Europe/Paris:20241027T110000
DTSTAMP:20260421T064116
CREATED:20241022T051447Z
LAST-MODIFIED:20241202T164539Z
UID:10000002-1730019600-1730026800@aero-formatech.com
SUMMARY:ÉVACUATION SUBAQUATIQUE - Formation d’urgence - Durée 2 heures
DESCRIPTION:Pour s’enregistrer ou pour plus de détails\, contactez-nous à info@aeroformatech.com
URL:https://aero-formatech.com/event/evacuation-subaquatique-formation-durgence/
LOCATION:Piscine du Grand Times Hôtel\, 88 Rue Jean-Guyon\, Blainville\, QC\, J7C3W1\, Canada
END:VEVENT
END:VCALENDAR