BEGIN:VCALENDAR
VERSION:2.0
PRODID:-//Aero-formatech Formation personnel navigant - ECPv6.15.18//NONSGML v1.0//EN
CALSCALE:GREGORIAN
METHOD:PUBLISH
X-ORIGINAL-URL:https://aero-formatech.com/en/
X-WR-CALDESC:Events for Aero-formatech Formation personnel navigant
REFRESH-INTERVAL;VALUE=DURATION:PT1H
X-Robots-Tag:noindex
X-PUBLISHED-TTL:PT1H
BEGIN:VTIMEZONE
TZID:America/New_York
BEGIN:DAYLIGHT
TZOFFSETFROM:-0500
TZOFFSETTO:-0400
TZNAME:EDT
DTSTART:20250309T070000
END:DAYLIGHT
BEGIN:STANDARD
TZOFFSETFROM:-0400
TZOFFSETTO:-0500
TZNAME:EST
DTSTART:20251102T060000
END:STANDARD
BEGIN:DAYLIGHT
TZOFFSETFROM:-0500
TZOFFSETTO:-0400
TZNAME:EDT
DTSTART:20260308T070000
END:DAYLIGHT
BEGIN:STANDARD
TZOFFSETFROM:-0400
TZOFFSETTO:-0500
TZNAME:EST
DTSTART:20261101T060000
END:STANDARD
BEGIN:DAYLIGHT
TZOFFSETFROM:-0500
TZOFFSETTO:-0400
TZNAME:EDT
DTSTART:20270314T070000
END:DAYLIGHT
BEGIN:STANDARD
TZOFFSETFROM:-0400
TZOFFSETTO:-0500
TZNAME:EST
DTSTART:20271107T060000
END:STANDARD
END:VTIMEZONE
BEGIN:VEVENT
DTSTART;TZID=America/New_York:20260423T090000
DTEND;TZID=America/New_York:20260423T120000
DTSTAMP:20260421T053555
CREATED:20260402T174701Z
LAST-MODIFIED:20260402T174701Z
UID:10000532-1776934800-1776945600@aero-formatech.com
SUMMARY:Montreal Area\, QC\, Canada - Underwater Egress - Emergency Training
DESCRIPTION:To register or for more information\, contact us at : info@aeroformatech.com
URL:https://aero-formatech.com/en/event/montreal-area-qc-canada-underwater-egress-emergency-training-4/
LOCATION:Pool of Grand Times Hotel\, 88 Jean-Guyon\, Blainville\, QC\, J7C3W1\, Canada
CATEGORIES:Event
END:VEVENT
BEGIN:VEVENT
DTSTART;TZID=America/New_York:20260423T130000
DTEND;TZID=America/New_York:20260423T153000
DTSTAMP:20260421T053555
CREATED:20260410T195158Z
LAST-MODIFIED:20260410T195158Z
UID:10000537-1776949200-1776958200@aero-formatech.com
SUMMARY:Montreal Area\, QC\, Canada - Underwater Egress - Emergency Training
DESCRIPTION:To register or for more information\, contact us at : info@aeroformatech.com
URL:https://aero-formatech.com/en/event/montreal-area-qc-canada-underwater-egress-emergency-training-6/
LOCATION:Pool of Grand Times Hotel\, 88 Jean-Guyon\, Blainville\, QC\, J7C3W1\, Canada
CATEGORIES:Event
END:VEVENT
BEGIN:VEVENT
DTSTART;TZID=America/New_York:20260430T090000
DTEND;TZID=America/New_York:20260430T120000
DTSTAMP:20260421T053555
CREATED:20260402T174751Z
LAST-MODIFIED:20260402T174751Z
UID:10000533-1777539600-1777550400@aero-formatech.com
SUMMARY:Montreal Area\, QC\, Canada - Underwater Egress - Emergency Training
DESCRIPTION:To register or for more information\, contact us at : info@aeroformatech.com
URL:https://aero-formatech.com/en/event/montreal-area-qc-canada-underwater-egress-emergency-training-5/
LOCATION:Pool of Grand Times Hotel\, 88 Jean-Guyon\, Blainville\, QC\, J7C3W1\, Canada
CATEGORIES:Event
END:VEVENT
BEGIN:VEVENT
DTSTART;TZID=America/New_York:20260510T090000
DTEND;TZID=America/New_York:20260510T120000
DTSTAMP:20260421T053555
CREATED:20260220T212558Z
LAST-MODIFIED:20260302T191803Z
UID:10000498-1778403600-1778414400@aero-formatech.com
SUMMARY:Montreal Area\, QC\, Canada - Underwater Egress - Emergency training
DESCRIPTION:To register or for more information\, contact us at : info@aeroformatech.com
URL:https://aero-formatech.com/en/event/underwater-egress-emergency-training-montreal-aera-3/
LOCATION:Pool of Grand Times Hotel\, 88 Jean-Guyon\, Blainville\, QC\, J7C3W1\, Canada
CATEGORIES:Event
END:VEVENT
BEGIN:VEVENT
DTSTART;TZID=America/New_York:20260614T090000
DTEND;TZID=America/New_York:20260614T120000
DTSTAMP:20260421T053555
CREATED:20260220T212647Z
LAST-MODIFIED:20260302T191938Z
UID:10000499-1781427600-1781438400@aero-formatech.com
SUMMARY:Montreal Area\, QC\, Canada - Underwater Egress - Emergency training
DESCRIPTION:To register or for more information\, contact us at : info@aeroformatech.com
URL:https://aero-formatech.com/en/event/underwater-egress-emergency-training-montreal-aera-4/
LOCATION:Pool of Grand Times Hotel\, 88 Jean-Guyon\, Blainville\, QC\, J7C3W1\, Canada
CATEGORIES:Event
END:VEVENT
END:VCALENDAR