BEGIN:VCALENDAR
VERSION:2.0
PRODID:-//Aero-formatech Formation personnel navigant - ECPv6.15.18//NONSGML v1.0//EN
CALSCALE:GREGORIAN
METHOD:PUBLISH
X-ORIGINAL-URL:https://aero-formatech.com/en/
X-WR-CALDESC:Events for Aero-formatech Formation personnel navigant
REFRESH-INTERVAL;VALUE=DURATION:PT1H
X-Robots-Tag:noindex
X-PUBLISHED-TTL:PT1H
BEGIN:VTIMEZONE
TZID:America/New_York
BEGIN:DAYLIGHT
TZOFFSETFROM:-0500
TZOFFSETTO:-0400
TZNAME:EDT
DTSTART:20230312T070000
END:DAYLIGHT
BEGIN:STANDARD
TZOFFSETFROM:-0400
TZOFFSETTO:-0500
TZNAME:EST
DTSTART:20231105T060000
END:STANDARD
BEGIN:DAYLIGHT
TZOFFSETFROM:-0500
TZOFFSETTO:-0400
TZNAME:EDT
DTSTART:20240310T070000
END:DAYLIGHT
BEGIN:STANDARD
TZOFFSETFROM:-0400
TZOFFSETTO:-0500
TZNAME:EST
DTSTART:20241103T060000
END:STANDARD
BEGIN:DAYLIGHT
TZOFFSETFROM:-0500
TZOFFSETTO:-0400
TZNAME:EDT
DTSTART:20250309T070000
END:DAYLIGHT
BEGIN:STANDARD
TZOFFSETFROM:-0400
TZOFFSETTO:-0500
TZNAME:EST
DTSTART:20251102T060000
END:STANDARD
BEGIN:DAYLIGHT
TZOFFSETFROM:-0500
TZOFFSETTO:-0400
TZNAME:EDT
DTSTART:20260308T070000
END:DAYLIGHT
BEGIN:STANDARD
TZOFFSETFROM:-0400
TZOFFSETTO:-0500
TZNAME:EST
DTSTART:20261101T060000
END:STANDARD
BEGIN:DAYLIGHT
TZOFFSETFROM:-0500
TZOFFSETTO:-0400
TZNAME:EDT
DTSTART:20270314T070000
END:DAYLIGHT
BEGIN:STANDARD
TZOFFSETFROM:-0400
TZOFFSETTO:-0500
TZNAME:EST
DTSTART:20271107T060000
END:STANDARD
END:VTIMEZONE
BEGIN:VTIMEZONE
TZID:Europe/Paris
BEGIN:DAYLIGHT
TZOFFSETFROM:+0100
TZOFFSETTO:+0200
TZNAME:CEST
DTSTART:20230326T010000
END:DAYLIGHT
BEGIN:STANDARD
TZOFFSETFROM:+0200
TZOFFSETTO:+0100
TZNAME:CET
DTSTART:20231029T010000
END:STANDARD
BEGIN:DAYLIGHT
TZOFFSETFROM:+0100
TZOFFSETTO:+0200
TZNAME:CEST
DTSTART:20240331T010000
END:DAYLIGHT
BEGIN:STANDARD
TZOFFSETFROM:+0200
TZOFFSETTO:+0100
TZNAME:CET
DTSTART:20241027T010000
END:STANDARD
BEGIN:DAYLIGHT
TZOFFSETFROM:+0100
TZOFFSETTO:+0200
TZNAME:CEST
DTSTART:20250330T010000
END:DAYLIGHT
BEGIN:STANDARD
TZOFFSETFROM:+0200
TZOFFSETTO:+0100
TZNAME:CET
DTSTART:20251026T010000
END:STANDARD
END:VTIMEZONE
BEGIN:VEVENT
DTSTART;TZID=America/New_York:20260412T090000
DTEND;TZID=America/New_York:20260412T120000
DTSTAMP:20260421T063542
CREATED:20260220T212512Z
LAST-MODIFIED:20260302T191622Z
UID:10000497-1775984400-1775995200@aero-formatech.com
SUMMARY:Montreal Area\, QC\, Canada - Underwater Egress - Emergency training
DESCRIPTION:To register or for more information\, contact us at : info@aeroformatech.com
URL:https://aero-formatech.com/en/event/underwater-egress-emergency-training-montreal-aera-2/
LOCATION:Pool of Grand Times Hotel\, 88 Jean-Guyon\, Blainville\, QC\, J7C3W1\, Canada
CATEGORIES:Event
END:VEVENT
BEGIN:VEVENT
DTSTART;TZID=America/New_York:20260401T130000
DTEND;TZID=America/New_York:20260401T160000
DTSTAMP:20260421T063542
CREATED:20260302T191344Z
LAST-MODIFIED:20260302T191344Z
UID:10000513-1775048400-1775059200@aero-formatech.com
SUMMARY:Montreal Area\, QC\, Canada - Underwater Egress - Emergency training
DESCRIPTION:To register or for more information\, contact us at : info@aeroformatech.com
URL:https://aero-formatech.com/en/event/montreal-area-qc-canada-underwater-egress-emergency-training-3/
LOCATION:Pool of Grand Times Hotel\, 88 Jean-Guyon\, Blainville\, QC\, J7C3W1\, Canada
CATEGORIES:Event
END:VEVENT
BEGIN:VEVENT
DTSTART;TZID=America/New_York:20260401T090000
DTEND;TZID=America/New_York:20260401T120000
DTSTAMP:20260421T063542
CREATED:20260301T204657Z
LAST-MODIFIED:20260302T191432Z
UID:10000509-1775034000-1775044800@aero-formatech.com
SUMMARY:Montreal Area\, QC\, Canada - Underwater Egress - Emergency training (FULLY BOOKED)
DESCRIPTION:To register or for more information\, contact us at : info@aeroformatech.com
URL:https://aero-formatech.com/en/event/montreal-area-qc-canada-underwater-egress-emergency-training/
LOCATION:Pool of Grand Times Hotel\, 88 Jean-Guyon\, Blainville\, QC\, J7C3W1\, Canada
CATEGORIES:Event
END:VEVENT
BEGIN:VEVENT
DTSTART;TZID=America/New_York:20260331T130000
DTEND;TZID=America/New_York:20260331T160000
DTSTAMP:20260421T063542
CREATED:20260220T212423Z
LAST-MODIFIED:20260302T191209Z
UID:10000496-1774962000-1774972800@aero-formatech.com
SUMMARY:Montreal Area\, QC\, Canada - Underwater Egress - Emergency training (FULLY BOOKED)
DESCRIPTION:To register or for more information\, contact us at : info@aeroformatech.com
URL:https://aero-formatech.com/en/event/underwater-egress-emergency-training-montreal-aera/
LOCATION:Pool of Grand Times Hotel\, 88 Jean-Guyon\, Blainville\, QC\, J7C3W1\, Canada
CATEGORIES:Event
END:VEVENT
BEGIN:VEVENT
DTSTART;TZID=America/New_York:20260331T090000
DTEND;TZID=America/New_York:20260331T120000
DTSTAMP:20260421T063542
CREATED:20260111T211138Z
LAST-MODIFIED:20260301T205613Z
UID:10000319-1774947600-1774958400@aero-formatech.com
SUMMARY:Montreal Area\, QC\, Canada\, Underwater Egress - Emergency training (FULLY BOOKED)
DESCRIPTION:To register or for more information\, contact us at : info@aeroformatech.com
URL:https://aero-formatech.com/en/event/underwater-egress-emergency-training-montreal-aera-duration-2-hours-5/
LOCATION:Pool of Grand Times Hotel\, 88 Jean-Guyon\, Blainville\, QC\, J7C3W1\, Canada
CATEGORIES:Event
END:VEVENT
BEGIN:VEVENT
DTSTART;TZID=America/New_York:20260322T130000
DTEND;TZID=America/New_York:20260322T160000
DTSTAMP:20260421T063542
CREATED:20260302T191032Z
LAST-MODIFIED:20260302T191032Z
UID:10000512-1774184400-1774195200@aero-formatech.com
SUMMARY:Montreal Area\, QC\, Canada - Underwater Egress - Emergency training
DESCRIPTION:To register or for more information\, contact us at : info@aeroformatech.com
URL:https://aero-formatech.com/en/event/montreal-area-qc-canada-underwater-egress-emergency-training-2/
LOCATION:Pool of Grand Times Hotel\, 88 Jean-Guyon\, Blainville\, QC\, J7C3W1\, Canada
CATEGORIES:Event
END:VEVENT
BEGIN:VEVENT
DTSTART;TZID=America/New_York:20260322T090000
DTEND;TZID=America/New_York:20260322T120000
DTSTAMP:20260421T063542
CREATED:20260111T211057Z
LAST-MODIFIED:20260302T190930Z
UID:10000318-1774170000-1774180800@aero-formatech.com
SUMMARY:Montreal Area\, QC\, Canada - Underwater Egress - Emergency training (FULLY BOOKED)
DESCRIPTION:To register or for more information\, contact us at : info@aeroformatech.com
URL:https://aero-formatech.com/en/event/underwater-egress-emergency-training-montreal-aera-duration-2-hours-4/
LOCATION:Pool of Grand Times Hotel\, 88 Jean-Guyon\, Blainville\, QC\, J7C3W1\, Canada
CATEGORIES:Event
END:VEVENT
BEGIN:VEVENT
DTSTART;TZID=America/New_York:20260222T090000
DTEND;TZID=America/New_York:20260222T120000
DTSTAMP:20260421T063542
CREATED:20260111T211021Z
LAST-MODIFIED:20260220T213912Z
UID:10000317-1771750800-1771761600@aero-formatech.com
SUMMARY:UNDERWATER EGRESS - Emergency training - Montreal Area
DESCRIPTION:To register or for more information\, contact us at : info@aeroformatech.com
URL:https://aero-formatech.com/en/event/underwater-egress-emergency-training-montreal-aera-duration-2-hours-3/
LOCATION:Pool of Grand Times Hotel\, 88 Jean-Guyon\, Blainville\, QC\, J7C3W1\, Canada
CATEGORIES:Event
END:VEVENT
BEGIN:VEVENT
DTSTART;TZID=America/New_York:20260111T090000
DTEND;TZID=America/New_York:20260111T110000
DTSTAMP:20260421T063542
CREATED:20260109T200955Z
LAST-MODIFIED:20260109T201132Z
UID:10000282-1768122000-1768129200@aero-formatech.com
SUMMARY:UNDERWATER EGRESS - Emergency training / Montréal Aera - DURATION : 2 hours
DESCRIPTION:To register or for more information\, contact us at : info@aeroformatech.com
URL:https://aero-formatech.com/en/event/underwater-egress-emergency-training-montreal-aera-duration-2-hours-2/
LOCATION:Pool of Grand Times Hotel\, 88 Jean-Guyon\, Blainville\, QC\, J7C3W1\, Canada
END:VEVENT
BEGIN:VEVENT
DTSTART;TZID=America/New_York:20251214T090000
DTEND;TZID=America/New_York:20251214T110000
DTSTAMP:20260421T063542
CREATED:20241127T225005Z
LAST-MODIFIED:20241202T164531Z
UID:10000182-1765702800-1765710000@aero-formatech.com
SUMMARY:UNDERWATER EGRESS - Emergency training / Montréal Aera -  DURATION : 2 hours
DESCRIPTION:To register or for more information\, contact us at : info@aeroformatech.com
URL:https://aero-formatech.com/en/event/underwater-egress-emergency-training-montreal-aera-december-8-2024-duration-2-hours-13/
LOCATION:Pool of Grand Times Hotel\, 88 Jean-Guyon\, Blainville\, QC\, J7C3W1\, Canada
END:VEVENT
BEGIN:VEVENT
DTSTART;TZID=America/New_York:20251116T090000
DTEND;TZID=America/New_York:20251116T110000
DTSTAMP:20260421T063542
CREATED:20241127T224931Z
LAST-MODIFIED:20241202T164531Z
UID:10000181-1763283600-1763290800@aero-formatech.com
SUMMARY:UNDERWATER EGRESS - Emergency training / Montréal Aera - DURATION : 2 hours
DESCRIPTION:To register or for more information\, contact us at : info@aeroformatech.com
URL:https://aero-formatech.com/en/event/underwater-egress-emergency-training-montreal-aera-december-8-2024-duration-2-hours-12/
LOCATION:Pool of Grand Times Hotel\, 88 Jean-Guyon\, Blainville\, QC\, J7C3W1\, Canada
END:VEVENT
BEGIN:VEVENT
DTSTART;TZID=America/New_York:20251005T090000
DTEND;TZID=America/New_York:20251005T110000
DTSTAMP:20260421T063542
CREATED:20241127T224901Z
LAST-MODIFIED:20241202T164532Z
UID:10000180-1759654800-1759662000@aero-formatech.com
SUMMARY:UNDERWATER EGRESS - Emergency training / Montréal Aera - DURATION : 2 hours
DESCRIPTION:To register or for more information\, contact us at : info@aeroformatech.com
URL:https://aero-formatech.com/en/event/underwater-egress-emergency-training-montreal-aera-december-8-2024-duration-2-hours-11/
LOCATION:Pool of Grand Times Hotel\, 88 Jean-Guyon\, Blainville\, QC\, J7C3W1\, Canada
END:VEVENT
BEGIN:VEVENT
DTSTART;TZID=America/New_York:20250907T090000
DTEND;TZID=America/New_York:20250907T110000
DTSTAMP:20260421T063542
CREATED:20241127T224832Z
LAST-MODIFIED:20241202T164533Z
UID:10000179-1757235600-1757242800@aero-formatech.com
SUMMARY:UNDERWATER EGRESS - Emergency training / Montréal Aera - DURATION : 2 hours
DESCRIPTION:To register or for more information\, contact us at : info@aeroformatech.com
URL:https://aero-formatech.com/en/event/underwater-egress-emergency-training-montreal-aera-december-8-2024-duration-2-hours-10/
LOCATION:Pool of Grand Times Hotel\, 88 Jean-Guyon\, Blainville\, QC\, J7C3W1\, Canada
END:VEVENT
BEGIN:VEVENT
DTSTART;TZID=America/New_York:20250803T090000
DTEND;TZID=America/New_York:20250803T110000
DTSTAMP:20260421T063542
CREATED:20241127T224754Z
LAST-MODIFIED:20241202T164533Z
UID:10000178-1754211600-1754218800@aero-formatech.com
SUMMARY:UNDERWATER EGRESS - Emergency training / Montréal Aera - DURATION : 2 hours
DESCRIPTION:To register or for more information\, contact us at : info@aeroformatech.com
URL:https://aero-formatech.com/en/event/underwater-egress-emergency-training-montreal-aera-december-8-2024-duration-2-hours-9/
LOCATION:Pool of Grand Times Hotel\, 88 Jean-Guyon\, Blainville\, QC\, J7C3W1\, Canada
END:VEVENT
BEGIN:VEVENT
DTSTART;TZID=America/New_York:20250615T090000
DTEND;TZID=America/New_York:20250615T110000
DTSTAMP:20260421T063542
CREATED:20241127T224712Z
LAST-MODIFIED:20241202T164534Z
UID:10000177-1749978000-1749985200@aero-formatech.com
SUMMARY:UNDERWATER EGRESS - Emergency training / Montréal Aera -  DURATION : 2 hours
DESCRIPTION:To register or for more information\, contact us at : info@aeroformatech.com
URL:https://aero-formatech.com/en/event/underwater-egress-emergency-training-montreal-aera-december-8-2024-duration-2-hours-8/
LOCATION:Pool of Grand Times Hotel\, 88 Jean-Guyon\, Blainville\, QC\, J7C3W1\, Canada
END:VEVENT
BEGIN:VEVENT
DTSTART;TZID=America/New_York:20250528T083000
DTEND;TZID=America/New_York:20250528T103000
DTSTAMP:20260421T063542
CREATED:20250726T192118Z
LAST-MODIFIED:20250726T192149Z
UID:10000193-1748421000-1748428200@aero-formatech.com
SUMMARY:UNDERWATER EGRESS - Emergency training / Montréal Aera -  DURATION : 2 hours
DESCRIPTION:To register or for more information\, contact us at : info@aeroformatech.com
URL:https://aero-formatech.com/en/event/underwater-egress-emergency-training-montreal-aera-duration-2-hours/
LOCATION:Pool of Grand Times Hotel\, 88 Jean-Guyon\, Blainville\, QC\, J7C3W1\, Canada
CATEGORIES:Event
END:VEVENT
BEGIN:VEVENT
DTSTART;TZID=America/New_York:20250511T090000
DTEND;TZID=America/New_York:20250511T110000
DTSTAMP:20260421T063542
CREATED:20241127T224635Z
LAST-MODIFIED:20241202T164534Z
UID:10000176-1746954000-1746961200@aero-formatech.com
SUMMARY:UNDERWATER EGRESS - Emergency training / Montréal Aera - DURATION : 2 hours
DESCRIPTION:To register or for more information\, contact us at : info@aeroformatech.com
URL:https://aero-formatech.com/en/event/underwater-egress-emergency-training-montreal-aera-december-8-2024-duration-2-hours-7/
LOCATION:Pool of Grand Times Hotel\, 88 Jean-Guyon\, Blainville\, QC\, J7C3W1\, Canada
END:VEVENT
BEGIN:VEVENT
DTSTART;TZID=America/New_York:20250406T090000
DTEND;TZID=America/New_York:20250406T110000
DTSTAMP:20260421T063542
CREATED:20241127T224603Z
LAST-MODIFIED:20241202T164535Z
UID:10000175-1743930000-1743937200@aero-formatech.com
SUMMARY:UNDERWATER EGRESS - Emergency training / Montréal Aera - DURATION : 2 hours
DESCRIPTION:To register or for more information\, contact us at : info@aeroformatech.com
URL:https://aero-formatech.com/en/event/underwater-egress-emergency-training-montreal-aera-december-8-2024-duration-2-hours-6/
LOCATION:Pool of Grand Times Hotel\, 88 Jean-Guyon\, Blainville\, QC\, J7C3W1\, Canada
END:VEVENT
BEGIN:VEVENT
DTSTART;TZID=America/New_York:20250310T090000
DTEND;TZID=America/New_York:20250310T173000
DTSTAMP:20260421T063542
CREATED:20241127T224518Z
LAST-MODIFIED:20241202T164536Z
UID:10000174-1741597200-1741627800@aero-formatech.com
SUMMARY:UNDERWATER EGRESS - Emergency training / Montréal Aera - DURATION : 2 hours
DESCRIPTION:To register or for more information\, contact us at : info@aeroformatech.com
URL:https://aero-formatech.com/en/event/underwater-egress-emergency-training-montreal-aera-december-8-2024-duration-2-hours-5/
LOCATION:Pool of Grand Times Hotel\, 88 Jean-Guyon\, Blainville\, QC\, J7C3W1\, Canada
END:VEVENT
BEGIN:VEVENT
DTSTART;TZID=America/New_York:20250309T090000
DTEND;TZID=America/New_York:20250309T110000
DTSTAMP:20260421T063542
CREATED:20241127T224443Z
LAST-MODIFIED:20241202T164536Z
UID:10000173-1741510800-1741518000@aero-formatech.com
SUMMARY:UNDERWATER EGRESS - Emergency training / Montréal Aera - DURATION : 2 hours
DESCRIPTION:To register or for more information\, contact us at : info@aeroformatech.com
URL:https://aero-formatech.com/en/event/underwater-egress-emergency-training-montreal-aera-december-8-2024-duration-2-hours-4/
LOCATION:Pool of Grand Times Hotel\, 88 Jean-Guyon\, Blainville\, QC\, J7C3W1\, Canada
END:VEVENT
BEGIN:VEVENT
DTSTART;TZID=America/New_York:20250202T090000
DTEND;TZID=America/New_York:20250202T110000
DTSTAMP:20260421T063543
CREATED:20241127T224403Z
LAST-MODIFIED:20241202T164536Z
UID:10000172-1738486800-1738494000@aero-formatech.com
SUMMARY:UNDERWATER EGRESS - Emergency training / Montréal Aera - DURATION : 2 hours
DESCRIPTION:To register or for more information\, contact us at : info@aeroformatech.com
URL:https://aero-formatech.com/en/event/underwater-egress-emergency-training-montreal-aera-december-8-2024-duration-2-hours-3/
LOCATION:Pool of Grand Times Hotel\, 88 Jean-Guyon\, Blainville\, QC\, J7C3W1\, Canada
END:VEVENT
BEGIN:VEVENT
DTSTART;TZID=America/New_York:20250112T090000
DTEND;TZID=America/New_York:20250112T110000
DTSTAMP:20260421T063543
CREATED:20241127T224334Z
LAST-MODIFIED:20250107T173224Z
UID:10000171-1736672400-1736679600@aero-formatech.com
SUMMARY:UNDERWATER EGRESS - Emergency training / Montréal Aera - DURATION : 2 hours
DESCRIPTION:To register or for more information\, contact us at : info@aeroformatech.com
URL:https://aero-formatech.com/en/event/underwater-egress-emergency-training-montreal-aera-december-8-2024-duration-2-hours-2/
LOCATION:Pool of Grand Times Hotel\, 88 Jean-Guyon\, Blainville\, QC\, J7C3W1\, Canada
END:VEVENT
BEGIN:VEVENT
DTSTART;TZID=America/New_York:20241208T090000
DTEND;TZID=America/New_York:20241208T110000
DTSTAMP:20260421T063543
CREATED:20241024T214318Z
LAST-MODIFIED:20241202T164537Z
UID:10000017-1733648400-1733655600@aero-formatech.com
SUMMARY:UNDERWATER EGRESS - Emergency training / Montréal Aera - DURATION : 2 hours
DESCRIPTION:To register or for more information\, contact us at : info@aeroformatech.com
URL:https://aero-formatech.com/en/event/underwater-egress-emergency-training-montreal-aera-december-8-2024-duration-2-hours/
LOCATION:Pool of Grand Times Hotel\, 88 Jean-Guyon\, Blainville\, QC\, J7C3W1\, Canada
END:VEVENT
BEGIN:VEVENT
DTSTART;TZID=America/New_York:20241117T090000
DTEND;TZID=America/New_York:20241117T110000
DTSTAMP:20260421T063543
CREATED:20241024T213510Z
LAST-MODIFIED:20241202T164538Z
UID:10000012-1731834000-1731841200@aero-formatech.com
SUMMARY:UNDERWATER EGRESS - Emergency training / Montréal Aera - November 17\, 2024 / DURATION : 2 hours
DESCRIPTION:To register or for more information\, contact us at : info@aeroformatech.com
URL:https://aero-formatech.com/en/event/underwater-egress-emergency-training-montreal-aera-november-17-2024-duration-2-hours/
LOCATION:Pool of Grand Times Hotel\, 88 Jean-Guyon\, Blainville\, QC\, J7C3W1\, Canada
END:VEVENT
BEGIN:VEVENT
DTSTART;TZID=Europe/Paris:20241027T090000
DTEND;TZID=Europe/Paris:20241027T110000
DTSTAMP:20260421T063543
CREATED:20241022T051201Z
LAST-MODIFIED:20241202T164539Z
UID:10000001-1730019600-1730026800@aero-formatech.com
SUMMARY:UNDERWATER EGRESS - Emergency training
DESCRIPTION:To register or for more information\, contact us at : info@aeroformatech.com
URL:https://aero-formatech.com/en/event/underwater-egress-emergency-training/
LOCATION:Pool of Grand Times Hotel\, 88 Jean-Guyon\, Blainville\, QC\, J7C3W1\, Canada
CATEGORIES:Full
END:VEVENT
END:VCALENDAR