BEGIN:VCALENDAR
VERSION:2.0
PRODID:-//Aero-formatech Formation personnel navigant - ECPv6.15.18//NONSGML v1.0//EN
CALSCALE:GREGORIAN
METHOD:PUBLISH
X-ORIGINAL-URL:https://aero-formatech.com/en/
X-WR-CALDESC:Events for Aero-formatech Formation personnel navigant
REFRESH-INTERVAL;VALUE=DURATION:PT1H
X-Robots-Tag:noindex
X-PUBLISHED-TTL:PT1H
BEGIN:VTIMEZONE
TZID:America/New_York
BEGIN:DAYLIGHT
TZOFFSETFROM:-0500
TZOFFSETTO:-0400
TZNAME:EDT
DTSTART:20230312T070000
END:DAYLIGHT
BEGIN:STANDARD
TZOFFSETFROM:-0400
TZOFFSETTO:-0500
TZNAME:EST
DTSTART:20231105T060000
END:STANDARD
BEGIN:DAYLIGHT
TZOFFSETFROM:-0500
TZOFFSETTO:-0400
TZNAME:EDT
DTSTART:20240310T070000
END:DAYLIGHT
BEGIN:STANDARD
TZOFFSETFROM:-0400
TZOFFSETTO:-0500
TZNAME:EST
DTSTART:20241103T060000
END:STANDARD
BEGIN:DAYLIGHT
TZOFFSETFROM:-0500
TZOFFSETTO:-0400
TZNAME:EDT
DTSTART:20250309T070000
END:DAYLIGHT
BEGIN:STANDARD
TZOFFSETFROM:-0400
TZOFFSETTO:-0500
TZNAME:EST
DTSTART:20251102T060000
END:STANDARD
BEGIN:DAYLIGHT
TZOFFSETFROM:-0500
TZOFFSETTO:-0400
TZNAME:EDT
DTSTART:20260308T070000
END:DAYLIGHT
BEGIN:STANDARD
TZOFFSETFROM:-0400
TZOFFSETTO:-0500
TZNAME:EST
DTSTART:20261101T060000
END:STANDARD
END:VTIMEZONE
BEGIN:VEVENT
DTSTART;TZID=America/New_York:20250128T083000
DTEND;TZID=America/New_York:20250128T100000
DTSTAMP:20260421T080709
CREATED:20250107T180443Z
LAST-MODIFIED:20250107T180443Z
UID:10000191-1738053000-1738058400@aero-formatech.com
SUMMARY:Mirabel\, Qc Canada – Crewmember / Firefighting
DESCRIPTION:Click here for more information about the Firefighting course \nTo register\, contact us at : info@aeroformatech.com
URL:https://aero-formatech.com/en/event/mirabel-qc-canada-crewmember-firefighting-2/
LOCATION:Nolinor Aviation – Terminal 1\, 11600 Rue Louis Bisson\, Mirabel\, QC\, J7N1G9\, Canada
END:VEVENT
BEGIN:VEVENT
DTSTART;TZID=America/New_York:20241210T083000
DTEND;TZID=America/New_York:20241211T163000
DTSTAMP:20260421T080709
CREATED:20241024T214519Z
LAST-MODIFIED:20241202T164537Z
UID:10000018-1733819400-1733934600@aero-formatech.com
SUMMARY:Mirabel (QC) Canada – Crewmember First Aid\, Airline Adapted 16 hours
DESCRIPTION:To register\, contact us at : info@aeroformatech.com
URL:https://aero-formatech.com/en/event/mirabel-qc-canada-crewmember-first-aid-airline-adapted-16-hours/
LOCATION:Nolinor Aviation – Terminal 1\, 11600 Rue Louis Bisson\, Mirabel\, QC\, J7N1G9\, Canada
END:VEVENT
BEGIN:VEVENT
DTSTART;TZID=America/New_York:20241205T083000
DTEND;TZID=America/New_York:20241205T123000
DTSTAMP:20260421T080709
CREATED:20241024T214230Z
LAST-MODIFIED:20241202T164537Z
UID:10000016-1733387400-1733401800@aero-formatech.com
SUMMARY:Mirabel\, Qc Canada – Crewmember / Firefighting
DESCRIPTION:Click here for more information about the Firefighting course \nTo register\, contact us at : info@aeroformatech.com
URL:https://aero-formatech.com/en/event/mirabel-qc-canada-crewmember-firefighting/
LOCATION:Nolinor Aviation – Terminal 1\, 11600 Rue Louis Bisson\, Mirabel\, QC\, J7N1G9\, Canada
END:VEVENT
END:VCALENDAR