BEGIN:VCALENDAR
VERSION:2.0
PRODID:-//Aero-formatech Formation personnel navigant - ECPv6.15.18//NONSGML v1.0//EN
CALSCALE:GREGORIAN
METHOD:PUBLISH
X-ORIGINAL-URL:https://aero-formatech.com/en/
X-WR-CALDESC:Events for Aero-formatech Formation personnel navigant
REFRESH-INTERVAL;VALUE=DURATION:PT1H
X-Robots-Tag:noindex
X-PUBLISHED-TTL:PT1H
BEGIN:VTIMEZONE
TZID:America/New_York
BEGIN:DAYLIGHT
TZOFFSETFROM:-0500
TZOFFSETTO:-0400
TZNAME:EDT
DTSTART:20240310T070000
END:DAYLIGHT
BEGIN:STANDARD
TZOFFSETFROM:-0400
TZOFFSETTO:-0500
TZNAME:EST
DTSTART:20241103T060000
END:STANDARD
BEGIN:DAYLIGHT
TZOFFSETFROM:-0500
TZOFFSETTO:-0400
TZNAME:EDT
DTSTART:20250309T070000
END:DAYLIGHT
BEGIN:STANDARD
TZOFFSETFROM:-0400
TZOFFSETTO:-0500
TZNAME:EST
DTSTART:20251102T060000
END:STANDARD
BEGIN:DAYLIGHT
TZOFFSETFROM:-0500
TZOFFSETTO:-0400
TZNAME:EDT
DTSTART:20260308T070000
END:DAYLIGHT
BEGIN:STANDARD
TZOFFSETFROM:-0400
TZOFFSETTO:-0500
TZNAME:EST
DTSTART:20261101T060000
END:STANDARD
END:VTIMEZONE
BEGIN:VTIMEZONE
TZID:Europe/Paris
BEGIN:DAYLIGHT
TZOFFSETFROM:+0100
TZOFFSETTO:+0200
TZNAME:CEST
DTSTART:20230326T010000
END:DAYLIGHT
BEGIN:STANDARD
TZOFFSETFROM:+0200
TZOFFSETTO:+0100
TZNAME:CET
DTSTART:20231029T010000
END:STANDARD
BEGIN:DAYLIGHT
TZOFFSETFROM:+0100
TZOFFSETTO:+0200
TZNAME:CEST
DTSTART:20240331T010000
END:DAYLIGHT
BEGIN:STANDARD
TZOFFSETFROM:+0200
TZOFFSETTO:+0100
TZNAME:CET
DTSTART:20241027T010000
END:STANDARD
BEGIN:DAYLIGHT
TZOFFSETFROM:+0100
TZOFFSETTO:+0200
TZNAME:CEST
DTSTART:20250330T010000
END:DAYLIGHT
BEGIN:STANDARD
TZOFFSETFROM:+0200
TZOFFSETTO:+0100
TZNAME:CET
DTSTART:20251026T010000
END:STANDARD
END:VTIMEZONE
BEGIN:VEVENT
DTSTART;TZID=America/New_York:20251208T083000
DTEND;TZID=America/New_York:20251208T120000
DTSTAMP:20260421T061007
CREATED:20260111T221114Z
LAST-MODIFIED:20260111T221114Z
UID:10000386-1765182600-1765195200@aero-formatech.com
SUMMARY:Montréal (QC) Canada – Crewmember / Firefighting
DESCRIPTION:Click here for more information about the Firefighting course \n  \nTo register\, contact us at : info@aeroformatech.com
URL:https://aero-formatech.com/en/event/montreal-qc-canada-crewmember-firefighting-5/
LOCATION:CAE\, 8575 Chem. de la Côte-de-Liesse\, Saint-Laurent\, QC\, H4T1G5\, Canada
CATEGORIES:Full
END:VEVENT
BEGIN:VEVENT
DTSTART;TZID=America/New_York:20251208T083000
DTEND;TZID=America/New_York:20251208T120000
DTSTAMP:20260421T061007
CREATED:20251125T201332Z
LAST-MODIFIED:20251125T201955Z
UID:10000251-1765182600-1765195200@aero-formatech.com
SUMMARY:Montréal\, QC\, Canada – Personnel navigant / Combat de feu
DESCRIPTION:
URL:https://aero-formatech.com/en/event/montreal-qc-canada-personnel-navigant-combat-de-feu-11/
LOCATION:CAE\, 8575 Chem. de la Côte-de-Liesse\, Saint-Laurent\, QC\, H4T1G5\, Canada
CATEGORIES:Full
END:VEVENT
BEGIN:VEVENT
DTSTART;TZID=Europe/Paris:20241027T090000
DTEND;TZID=Europe/Paris:20241027T110000
DTSTAMP:20260421T061007
CREATED:20241022T051201Z
LAST-MODIFIED:20241202T164539Z
UID:10000001-1730019600-1730026800@aero-formatech.com
SUMMARY:UNDERWATER EGRESS - Emergency training
DESCRIPTION:To register or for more information\, contact us at : info@aeroformatech.com
URL:https://aero-formatech.com/en/event/underwater-egress-emergency-training/
LOCATION:Pool of Grand Times Hotel\, 88 Jean-Guyon\, Blainville\, QC\, J7C3W1\, Canada
CATEGORIES:Full
END:VEVENT
END:VCALENDAR